BEGIN:VCALENDAR
VERSION:2.0
PRODID:-//The Gremlin Society - ECPv6.11.2//NONSGML v1.0//EN
CALSCALE:GREGORIAN
METHOD:PUBLISH
X-WR-CALNAME:The Gremlin Society
X-ORIGINAL-URL:https://thegremlinsociety.com
X-WR-CALDESC:Events for The Gremlin Society
REFRESH-INTERVAL;VALUE=DURATION:PT1H
X-Robots-Tag:noindex
X-PUBLISHED-TTL:PT1H
BEGIN:VTIMEZONE
TZID:UTC
BEGIN:STANDARD
TZOFFSETFROM:+0000
TZOFFSETTO:+0000
TZNAME:UTC
DTSTART:20260101T000000
END:STANDARD
END:VTIMEZONE
BEGIN:VEVENT
DTSTART;TZID=UTC:20260314T093000
DTEND;TZID=UTC:20260411T113000
DTSTAMP:20260420T131602
CREATED:20260219T082410Z
LAST-MODIFIED:20260328T083322Z
UID:143-1773480600-1775907000@thegremlinsociety.com
SUMMARY:Yoga Flow Fika
DESCRIPTION:The perfect Saturday morning doesn’t exi… oh wait\, yes it does! 🧘‍♀️☕️ \nJoin us at Grepp in Lerum for two special mornings of movement and connection. We are hosting a Yoga & Fika event designed to help you flow into your weekend with good energy. \n✨ The Vibe: We start with a 90-minute “Really Nice Flow” class to stretch\, strengthen\, and breathe. Once we roll up the mats at 11:00\, the coffee starts pouring! Stick around for a fika\, great conversation\, and a chance to socialize. \n🗓 Save the Dates: \n\nSaturday\, April 11\n\n⏰ Schedule: 09:30 – 11:00: Yoga Flow 11:00 – 11:30: Fika & Social \n⚡️ Spots are limited! We only have 15 spaces available to keep it cozy and personal. \n📲 How to join: Link in bio to book via the Grepp website\, or give us a call!
URL:https://thegremlinsociety.com/event/yoga-flow-fika/
LOCATION:GREPP\, Smedvägen 24 443 61 Stenkullen\, Lerum\, Sweden
END:VEVENT
BEGIN:VEVENT
DTSTART;TZID=UTC:20260328T120000
DTEND;TZID=UTC:20260511T170000
DTSTAMP:20260420T131602
CREATED:20260328T091823Z
LAST-MODIFIED:20260328T091823Z
UID:159-1774699200-1778518800@thegremlinsociety.com
SUMMARY:Chalmer UNI - Workshop - Empathic Leadership & Empowerment: “Kindness with a backbone”
DESCRIPTION::\n\nAGENDA\n\n• The Framework: We’ll walk through Stefania Gremlin’s A Leader’s Playbook to Connection & Purpose to understand the mechanics of a high-performing\, connected team.\n• The Workshop: Putting theory into practice with interactive exercises (like “The Switch” and “Active Listening”) to immediately bridge communication gaps.\n• Flipping the Pyramid: Moving from a traditional “boss” mentality to empowering the team from the ground up to build real psychological safety.\n• Enforcing Boundaries: Applying “Kindness with Backbone.” We’ll discuss why avoiding tough conversations hurts the team\, and how clear\, actively enforced boundaries prevent conflict.\n• Navigating Toxicity: Using the playbook’s “Rules of Engagement” to de-escalate tension. We’ll practice challenging the problem instead of the person\, and using “Connection Before Correction.”
URL:https://thegremlinsociety.com/event/chalmer-uni-workshop-empathic-leadership-empowerment-kindness-with-a-backbone/
END:VEVENT
END:VCALENDAR