BEGIN:VCALENDAR
VERSION:2.0
PRODID:-//The Gremlin Society - ECPv6.11.2//NONSGML v1.0//EN
CALSCALE:GREGORIAN
METHOD:PUBLISH
X-WR-CALNAME:The Gremlin Society
X-ORIGINAL-URL:https://thegremlinsociety.com
X-WR-CALDESC:Events for The Gremlin Society
REFRESH-INTERVAL;VALUE=DURATION:PT1H
X-Robots-Tag:noindex
X-PUBLISHED-TTL:PT1H
BEGIN:VTIMEZONE
TZID:UTC
BEGIN:STANDARD
TZOFFSETFROM:+0000
TZOFFSETTO:+0000
TZNAME:UTC
DTSTART:20260101T000000
END:STANDARD
END:VTIMEZONE
BEGIN:VEVENT
DTSTART;TZID=UTC:20260214T090000
DTEND;TZID=UTC:20260214T110000
DTSTAMP:20260420T214653
CREATED:20260120T094434Z
LAST-MODIFIED:20260122T082756Z
UID:119-1771059600-1771066800@thegremlinsociety.com
SUMMARY:YOGA VALENTINE EDITION
DESCRIPTION:Valentine’s Yoga Event – 14 February \nCelebrate love in all its forms romantic\, friendship\, and self-love with a special Valentine’s yoga experience designed to cultivate connection\, presence\, and ease. \nJoin us on 14 February at Grepp for a thoughtfully guided morning that combines movement\, relaxation\, and community. \nThe yoga class will take place from 9:30 to 11:00 and will begin with slow\, mindful movements\, gently awakening the body through spinal and chest waves to encourage openness and fluidity. The practice will continue with hip and hamstring strengthening and stretching\, supporting both stability and release.The session will also include partner-based yoga elements\, focusing on gentle stretches\, balance\, playful connection\, and trust-building exercises. No previous partner yoga experience is required. \nThe class will conclude with a deeply relaxing aromatherapy-supported Savasana\, featuring calming notes of lavender and eucalyptus. \nFrom 11:00 onwards\, guests are invited to stay and enjoy coffee provided by Grepp and fika by The Gremlin Society\, offering a warm and inviting space for casual mingling and connection. \nThis event is open to everyone. Couples\, friends\, and solo participants are all warmly welcome. Come with your partner\, share the experience with a friend\, or treat yourself to a mindful morning—arriving alone is perfectly welcome\, and you may even meet someone special along the way. \nEvent DetailsDate: 14 February \nWelcome : 9.00Yoga Class: 9:30–11:00Coffee & Fika: from 11:00Location: Grepp \nPricing250 per person\n \nAvailabilityOnly 22 spots are available\, and spaces are limited. \nReserve your place in advance and gift yourself a morning of movement\, presence\, and meaningful connection this Valentine’s Day. \nSecure your spot by paying via Swish\,  book by: \n📞 Call Grepp: 0302–124 00✉️ Email: info@thegremlinsociety
URL:https://thegremlinsociety.com/event/yoga-valentine-edition/
LOCATION:GREPP\, Smedvägen 24 443 61 Stenkullen\, Lerum\, Sweden
END:VEVENT
END:VCALENDAR